BEGIN:VCALENDAR
VERSION:2.0
PRODID:-//Sausset Ma Ville - ECPv6.15.20//NONSGML v1.0//EN
CALSCALE:GREGORIAN
METHOD:PUBLISH
X-ORIGINAL-URL:https://sausset.hallmycity.fr
X-WR-CALDESC:Évènements pour Sausset Ma Ville
REFRESH-INTERVAL;VALUE=DURATION:PT1H
X-Robots-Tag:noindex
X-PUBLISHED-TTL:PT1H
BEGIN:VTIMEZONE
TZID:Europe/Paris
BEGIN:DAYLIGHT
TZOFFSETFROM:+0100
TZOFFSETTO:+0200
TZNAME:CEST
DTSTART:20240331T010000
END:DAYLIGHT
BEGIN:STANDARD
TZOFFSETFROM:+0200
TZOFFSETTO:+0100
TZNAME:CET
DTSTART:20241027T010000
END:STANDARD
BEGIN:DAYLIGHT
TZOFFSETFROM:+0100
TZOFFSETTO:+0200
TZNAME:CEST
DTSTART:20250330T010000
END:DAYLIGHT
BEGIN:STANDARD
TZOFFSETFROM:+0200
TZOFFSETTO:+0100
TZNAME:CET
DTSTART:20251026T010000
END:STANDARD
BEGIN:DAYLIGHT
TZOFFSETFROM:+0100
TZOFFSETTO:+0200
TZNAME:CEST
DTSTART:20260329T010000
END:DAYLIGHT
BEGIN:STANDARD
TZOFFSETFROM:+0200
TZOFFSETTO:+0100
TZNAME:CET
DTSTART:20261025T010000
END:STANDARD
END:VTIMEZONE
BEGIN:VEVENT
DTSTART;TZID=Europe/Paris:20250408T100000
DTEND;TZID=Europe/Paris:20250410T160000
DTSTAMP:20260425T213611
CREATED:20250318T091020Z
LAST-MODIFIED:20250318T091020Z
UID:4823-1744106400-1744300800@sausset.hallmycity.fr
SUMMARY:ÉCOLE FÉMININE DE FOOTBALL
DESCRIPTION:F.C.C.B. Carry Sausset\nVous propose des journées découvertes\,initiation & plaisir \ndu mardi 8 au jeudi 10 avril 2025\nGratuit de 10h à 16h\n Goûter inclus
URL:https://sausset.hallmycity.fr/evenement/ecole-feminine-de-football/
LOCATION:Bouches-du-Rhône
CATEGORIES:SPORT
ATTACH;FMTTYPE=application/pdf:https://sausset.hallmycity.fr/wp-content/uploads/2025/03/Affiche_Stage-printemps2025.feminine.avecqrcode-1.pdf
END:VEVENT
BEGIN:VEVENT
DTSTART;TZID=Europe/Paris:20250414T090000
DTEND;TZID=Europe/Paris:20250418T170000
DTSTAMP:20260425T213611
CREATED:20250318T084533Z
LAST-MODIFIED:20250318T085112Z
UID:4815-1744621200-1744995600@sausset.hallmycity.fr
SUMMARY:STAGE DE  FOOTBALL
DESCRIPTION:F.C.C.B. CARRY SAUSSET\nVous propose « STAGE DE FOOTBALL »\n Initiation/ Perfectionnement\ndu 14 au 18 avril 2025 de 9h à 17h \n5 – 13 ans Filles &Garçons
URL:https://sausset.hallmycity.fr/evenement/stage-de-football/
LOCATION:Bouches-du-Rhône
CATEGORIES:SPORT
ATTACH;FMTTYPE=image/jpeg:https://sausset.hallmycity.fr/wp-content/uploads/2025/03/Affiche_Stage-printemps2025avecqrcode-1-scaled.jpg
END:VEVENT
BEGIN:VEVENT
DTSTART;TZID=Europe/Paris:20250430T080000
DTEND;TZID=Europe/Paris:20250430T120000
DTSTAMP:20260425T213611
CREATED:20250407T130711Z
LAST-MODIFIED:20250407T130712Z
UID:5313-1746000000-1746014400@sausset.hallmycity.fr
SUMMARY:CHALLENGE VÉLO
DESCRIPTION:LE MERCREDI 30 AVRIL\nVIENS À VÉLO\nAU COLLÈGE PIERRE MATRAJA
URL:https://sausset.hallmycity.fr/evenement/challenge-velo/
LOCATION:Collège
CATEGORIES:SPORT
END:VEVENT
END:VCALENDAR