BEGIN:VCALENDAR
VERSION:2.0
PRODID:-//Sausset Ma Ville - ECPv6.15.20//NONSGML v1.0//EN
CALSCALE:GREGORIAN
METHOD:PUBLISH
X-ORIGINAL-URL:https://sausset.hallmycity.fr
X-WR-CALDESC:Évènements pour Sausset Ma Ville
REFRESH-INTERVAL;VALUE=DURATION:PT1H
X-Robots-Tag:noindex
X-PUBLISHED-TTL:PT1H
BEGIN:VTIMEZONE
TZID:Europe/Paris
BEGIN:DAYLIGHT
TZOFFSETFROM:+0100
TZOFFSETTO:+0200
TZNAME:CEST
DTSTART:20250330T010000
END:DAYLIGHT
BEGIN:STANDARD
TZOFFSETFROM:+0200
TZOFFSETTO:+0100
TZNAME:CET
DTSTART:20251026T010000
END:STANDARD
BEGIN:DAYLIGHT
TZOFFSETFROM:+0100
TZOFFSETTO:+0200
TZNAME:CEST
DTSTART:20260329T010000
END:DAYLIGHT
BEGIN:STANDARD
TZOFFSETFROM:+0200
TZOFFSETTO:+0100
TZNAME:CET
DTSTART:20261025T010000
END:STANDARD
BEGIN:DAYLIGHT
TZOFFSETFROM:+0100
TZOFFSETTO:+0200
TZNAME:CEST
DTSTART:20270328T010000
END:DAYLIGHT
BEGIN:STANDARD
TZOFFSETFROM:+0200
TZOFFSETTO:+0100
TZNAME:CET
DTSTART:20271031T010000
END:STANDARD
END:VTIMEZONE
BEGIN:VEVENT
DTSTART;TZID=Europe/Paris:20260104T110000
DTEND;TZID=Europe/Paris:20260104T120000
DTSTAMP:20260425T181311
CREATED:20251218T082007Z
LAST-MODIFIED:20251218T082007Z
UID:10539-1767524400-1767528000@sausset.hallmycity.fr
SUMMARY:LA SAUSSEGNADE 17e ÉDITION
DESCRIPTION:
URL:https://sausset.hallmycity.fr/evenement/la-saussegnade-17e-edition/
LOCATION:Plagette du FOUR A CHAUX\, D49 - Route de La Couronne\, Sausset-les-pins\, 13560\, France
CATEGORIES:SAUSSEGNADE
ATTACH;FMTTYPE=application/pdf:https://sausset.hallmycity.fr/wp-content/uploads/2025/12/AFF_saussegnade-2026_0104.pdf
END:VEVENT
END:VCALENDAR