BEGIN:VCALENDAR
VERSION:2.0
PRODID:-//Sausset Ma Ville - ECPv6.15.20//NONSGML v1.0//EN
CALSCALE:GREGORIAN
METHOD:PUBLISH
X-ORIGINAL-URL:https://sausset.hallmycity.fr
X-WR-CALDESC:Évènements pour Sausset Ma Ville
REFRESH-INTERVAL;VALUE=DURATION:PT1H
X-Robots-Tag:noindex
X-PUBLISHED-TTL:PT1H
BEGIN:VTIMEZONE
TZID:Europe/Paris
BEGIN:DAYLIGHT
TZOFFSETFROM:+0100
TZOFFSETTO:+0200
TZNAME:CEST
DTSTART:20250330T010000
END:DAYLIGHT
BEGIN:STANDARD
TZOFFSETFROM:+0200
TZOFFSETTO:+0100
TZNAME:CET
DTSTART:20251026T010000
END:STANDARD
BEGIN:DAYLIGHT
TZOFFSETFROM:+0100
TZOFFSETTO:+0200
TZNAME:CEST
DTSTART:20260329T010000
END:DAYLIGHT
BEGIN:STANDARD
TZOFFSETFROM:+0200
TZOFFSETTO:+0100
TZNAME:CET
DTSTART:20261025T010000
END:STANDARD
BEGIN:DAYLIGHT
TZOFFSETFROM:+0100
TZOFFSETTO:+0200
TZNAME:CEST
DTSTART:20270328T010000
END:DAYLIGHT
BEGIN:STANDARD
TZOFFSETFROM:+0200
TZOFFSETTO:+0100
TZNAME:CET
DTSTART:20271031T010000
END:STANDARD
END:VTIMEZONE
BEGIN:VEVENT
DTSTART;TZID=Europe/Paris:20260514T090000
DTEND;TZID=Europe/Paris:20260514T180000
DTSTAMP:20260425T011344
CREATED:20260420T073433Z
LAST-MODIFIED:20260420T073433Z
UID:13338-1778749200-1778781600@sausset.hallmycity.fr
SUMMARY:LA FOIRE DU BORD DE MER
DESCRIPTION:
URL:https://sausset.hallmycity.fr/evenement/la-foire-du-bord-de-mer-3/
LOCATION:Corniche Avenue Général Leclerc
CATEGORIES:FOIRE DU BORD DE MER
ATTACH;FMTTYPE=image/jpeg:https://sausset.hallmycity.fr/wp-content/uploads/2026/04/la-foire-du-bord-de-mer.jpg
END:VEVENT
BEGIN:VEVENT
DTSTART;TZID=Europe/Paris:20260525T090000
DTEND;TZID=Europe/Paris:20260525T180000
DTSTAMP:20260425T011344
CREATED:20260420T073742Z
LAST-MODIFIED:20260420T073742Z
UID:13341-1779699600-1779732000@sausset.hallmycity.fr
SUMMARY:LA FOIRE DU BORD DE MER
DESCRIPTION:
URL:https://sausset.hallmycity.fr/evenement/la-foire-du-bord-de-mer-4/
LOCATION:Corniche Avenue Général Leclerc
CATEGORIES:FOIRE DU BORD DE MER
ATTACH;FMTTYPE=image/jpeg:https://sausset.hallmycity.fr/wp-content/uploads/2026/04/la-foire-du-bord-de-mer.jpg
END:VEVENT
END:VCALENDAR