BEGIN:VCALENDAR
VERSION:2.0
PRODID:-//Sausset Ma Ville - ECPv6.15.20//NONSGML v1.0//EN
CALSCALE:GREGORIAN
METHOD:PUBLISH
X-ORIGINAL-URL:https://sausset.hallmycity.fr
X-WR-CALDESC:Évènements pour Sausset Ma Ville
REFRESH-INTERVAL;VALUE=DURATION:PT1H
X-Robots-Tag:noindex
X-PUBLISHED-TTL:PT1H
BEGIN:VTIMEZONE
TZID:Europe/Paris
BEGIN:DAYLIGHT
TZOFFSETFROM:+0100
TZOFFSETTO:+0200
TZNAME:CEST
DTSTART:20250330T010000
END:DAYLIGHT
BEGIN:STANDARD
TZOFFSETFROM:+0200
TZOFFSETTO:+0100
TZNAME:CET
DTSTART:20251026T010000
END:STANDARD
BEGIN:DAYLIGHT
TZOFFSETFROM:+0100
TZOFFSETTO:+0200
TZNAME:CEST
DTSTART:20260329T010000
END:DAYLIGHT
BEGIN:STANDARD
TZOFFSETFROM:+0200
TZOFFSETTO:+0100
TZNAME:CET
DTSTART:20261025T010000
END:STANDARD
BEGIN:DAYLIGHT
TZOFFSETFROM:+0100
TZOFFSETTO:+0200
TZNAME:CEST
DTSTART:20270328T010000
END:DAYLIGHT
BEGIN:STANDARD
TZOFFSETFROM:+0200
TZOFFSETTO:+0100
TZNAME:CET
DTSTART:20271031T010000
END:STANDARD
END:VTIMEZONE
BEGIN:VEVENT
DTSTART;TZID=Europe/Paris:20260604T080000
DTEND;TZID=Europe/Paris:20260604T170000
DTSTAMP:20260425T025420
CREATED:20260422T091315Z
LAST-MODIFIED:20260422T091626Z
UID:13371-1780560000-1780592400@sausset.hallmycity.fr
SUMMARY:SAUSS'ESTIVAL
DESCRIPTION:
URL:https://sausset.hallmycity.fr/evenement/saussestival/
LOCATION:Salle  des Arts et de la Culture
CATEGORIES:Festival
ATTACH;FMTTYPE=image/jpeg:https://sausset.hallmycity.fr/wp-content/uploads/2026/04/affiche-sausset-estival-scaled.jpg
END:VEVENT
BEGIN:VEVENT
DTSTART;TZID=Europe/Paris:20260604T190000
DTEND;TZID=Europe/Paris:20260604T220000
DTSTAMP:20260425T025420
CREATED:20260422T092949Z
LAST-MODIFIED:20260422T092949Z
UID:13379-1780599600-1780610400@sausset.hallmycity.fr
SUMMARY:CAFÉ THÉÂTRE
DESCRIPTION:
URL:https://sausset.hallmycity.fr/evenement/cafe-theatre/
LOCATION:Salle  des Arts et de la Culture
CATEGORIES:Festival
ATTACH;FMTTYPE=image/jpeg:https://sausset.hallmycity.fr/wp-content/uploads/2026/04/cafe-theatre-scaled.jpg
END:VEVENT
BEGIN:VEVENT
DTSTART;TZID=Europe/Paris:20260605T080000
DTEND;TZID=Europe/Paris:20260605T170000
DTSTAMP:20260425T025420
CREATED:20260422T091821Z
LAST-MODIFIED:20260422T091821Z
UID:13374-1780646400-1780678800@sausset.hallmycity.fr
SUMMARY:SAUSS'ESTIVAL
DESCRIPTION:
URL:https://sausset.hallmycity.fr/evenement/saussestival-2/
LOCATION:Salle  des Arts et de la Culture
CATEGORIES:Festival
ATTACH;FMTTYPE=image/jpeg:https://sausset.hallmycity.fr/wp-content/uploads/2026/04/affiche-sausset-estival-scaled.jpg
END:VEVENT
BEGIN:VEVENT
DTSTART;TZID=Europe/Paris:20260605T190000
DTEND;TZID=Europe/Paris:20260605T220000
DTSTAMP:20260425T025420
CREATED:20260422T122206Z
LAST-MODIFIED:20260422T122206Z
UID:13387-1780686000-1780696800@sausset.hallmycity.fr
SUMMARY:LA MAÎTRESSE EN MAILLOT DE BAIN
DESCRIPTION:
URL:https://sausset.hallmycity.fr/evenement/la-maitresse-en-maillot-de-bain/
LOCATION:Salle  des Arts et de la Culture
CATEGORIES:Festival
ATTACH;FMTTYPE=image/jpeg:https://sausset.hallmycity.fr/wp-content/uploads/2026/04/maitresse-scaled.jpg
END:VEVENT
BEGIN:VEVENT
DTSTART;TZID=Europe/Paris:20260605T210000
DTEND;TZID=Europe/Paris:20260605T230000
DTSTAMP:20260425T025420
CREATED:20260422T123956Z
LAST-MODIFIED:20260422T123956Z
UID:13394-1780693200-1780700400@sausset.hallmycity.fr
SUMMARY:ET PENDANT CE TEMPS SIMONE VEILLE
DESCRIPTION:
URL:https://sausset.hallmycity.fr/evenement/et-pendant-ce-temps-simone-veille/
LOCATION:Salle  des Arts et de la Culture
CATEGORIES:Festival
ATTACH;FMTTYPE=image/jpeg:https://sausset.hallmycity.fr/wp-content/uploads/2026/04/Simone-scaled.jpg
END:VEVENT
BEGIN:VEVENT
DTSTART;TZID=Europe/Paris:20260606T080000
DTEND;TZID=Europe/Paris:20260606T170000
DTSTAMP:20260425T025420
CREATED:20260422T092036Z
LAST-MODIFIED:20260422T092036Z
UID:13376-1780732800-1780765200@sausset.hallmycity.fr
SUMMARY:SAUSS'ESTIVAL
DESCRIPTION:
URL:https://sausset.hallmycity.fr/evenement/saussestival-3/
LOCATION:Salle  des Arts et de la Culture
CATEGORIES:Festival
ATTACH;FMTTYPE=image/jpeg:https://sausset.hallmycity.fr/wp-content/uploads/2026/04/affiche-sausset-estival-scaled.jpg
END:VEVENT
BEGIN:VEVENT
DTSTART;TZID=Europe/Paris:20260606T180000
DTEND;TZID=Europe/Paris:20260606T210000
DTSTAMP:20260425T025420
CREATED:20260422T123708Z
LAST-MODIFIED:20260422T123708Z
UID:13391-1780768800-1780779600@sausset.hallmycity.fr
SUMMARY:LES RÈGLES DU SAVOIR VIVRE
DESCRIPTION:
URL:https://sausset.hallmycity.fr/evenement/les-regles-du-savoir-vivre/
LOCATION:Salle  des Arts et de la Culture
CATEGORIES:Festival
ATTACH;FMTTYPE=image/jpeg:https://sausset.hallmycity.fr/wp-content/uploads/2026/04/regles-savoir-vivre-scaled.jpg
END:VEVENT
END:VCALENDAR