BEGIN:VCALENDAR
VERSION:2.0
PRODID:-//Sausset Ma Ville - ECPv6.15.20//NONSGML v1.0//EN
CALSCALE:GREGORIAN
METHOD:PUBLISH
X-ORIGINAL-URL:https://sausset.hallmycity.fr
X-WR-CALDESC:Évènements pour Sausset Ma Ville
REFRESH-INTERVAL;VALUE=DURATION:PT1H
X-Robots-Tag:noindex
X-PUBLISHED-TTL:PT1H
BEGIN:VTIMEZONE
TZID:Europe/Paris
BEGIN:DAYLIGHT
TZOFFSETFROM:+0100
TZOFFSETTO:+0200
TZNAME:CEST
DTSTART:20240331T010000
END:DAYLIGHT
BEGIN:STANDARD
TZOFFSETFROM:+0200
TZOFFSETTO:+0100
TZNAME:CET
DTSTART:20241027T010000
END:STANDARD
BEGIN:DAYLIGHT
TZOFFSETFROM:+0100
TZOFFSETTO:+0200
TZNAME:CEST
DTSTART:20250330T010000
END:DAYLIGHT
BEGIN:STANDARD
TZOFFSETFROM:+0200
TZOFFSETTO:+0100
TZNAME:CET
DTSTART:20251026T010000
END:STANDARD
BEGIN:DAYLIGHT
TZOFFSETFROM:+0100
TZOFFSETTO:+0200
TZNAME:CEST
DTSTART:20260329T010000
END:DAYLIGHT
BEGIN:STANDARD
TZOFFSETFROM:+0200
TZOFFSETTO:+0100
TZNAME:CET
DTSTART:20261025T010000
END:STANDARD
END:VTIMEZONE
BEGIN:VEVENT
DTSTART;TZID=Europe/Paris:20250404T090000
DTEND;TZID=Europe/Paris:20250404T120000
DTSTAMP:20260426T041227
CREATED:20250306T102449Z
LAST-MODIFIED:20250307T090821Z
UID:4604-1743757200-1743768000@sausset.hallmycity.fr
SUMMARY:FORUM EMPLOI MULTI-SERVICE
DESCRIPTION:« Boostez Votre Avenir Professionnel\, Opportunités Multi-Secteurs »\nEntrée libre\, venir avec des CV !\nVENDREDI 04 AVRIL 9H/12H\nSalle des Arts à Sausset-Les-Pins
URL:https://sausset.hallmycity.fr/evenement/forum-emploi-multi-service/
LOCATION:Salle des arts\, Esplanade de la Gare\, Sausset-les-Pins\, 13960
CATEGORIES:événement
ATTACH;FMTTYPE=image/jpeg:https://sausset.hallmycity.fr/wp-content/uploads/2025/03/AFF_FORUM_EMPLOI.jpeg
END:VEVENT
END:VCALENDAR