BEGIN:VCALENDAR
VERSION:2.0
PRODID:-//Sausset Ma Ville - ECPv6.15.20//NONSGML v1.0//EN
CALSCALE:GREGORIAN
METHOD:PUBLISH
X-ORIGINAL-URL:https://sausset.hallmycity.fr
X-WR-CALDESC:Évènements pour Sausset Ma Ville
REFRESH-INTERVAL;VALUE=DURATION:PT1H
X-Robots-Tag:noindex
X-PUBLISHED-TTL:PT1H
BEGIN:VTIMEZONE
TZID:Europe/Paris
BEGIN:DAYLIGHT
TZOFFSETFROM:+0100
TZOFFSETTO:+0200
TZNAME:CEST
DTSTART:20240331T010000
END:DAYLIGHT
BEGIN:STANDARD
TZOFFSETFROM:+0200
TZOFFSETTO:+0100
TZNAME:CET
DTSTART:20241027T010000
END:STANDARD
BEGIN:DAYLIGHT
TZOFFSETFROM:+0100
TZOFFSETTO:+0200
TZNAME:CEST
DTSTART:20250330T010000
END:DAYLIGHT
BEGIN:STANDARD
TZOFFSETFROM:+0200
TZOFFSETTO:+0100
TZNAME:CET
DTSTART:20251026T010000
END:STANDARD
BEGIN:DAYLIGHT
TZOFFSETFROM:+0100
TZOFFSETTO:+0200
TZNAME:CEST
DTSTART:20260329T010000
END:DAYLIGHT
BEGIN:STANDARD
TZOFFSETFROM:+0200
TZOFFSETTO:+0100
TZNAME:CET
DTSTART:20261025T010000
END:STANDARD
END:VTIMEZONE
BEGIN:VEVENT
DTSTART;TZID=Europe/Paris:20250630T150000
DTEND;TZID=Europe/Paris:20250630T160000
DTSTAMP:20260425T181016
CREATED:20250214T083756Z
LAST-MODIFIED:20250214T083756Z
UID:4178-1751295600-1751299200@sausset.hallmycity.fr
SUMMARY:Les pieds dans l'eau
DESCRIPTION:Organisateurs :  CCAS – MUTUALITÉ FRANÇAISE\n \nCet atelier propose 8 séances d’une heure de longe-côte (marche aquatique)\, une activité idéale pour renforcer les membres inférieurs\, améliorer l’équilibre\, la coordination et l’endurance\, tout en profitant des bienfaits de l’eau.  \n🏊‍♂️ Un test de condition physique sera réalisé en début et en fin de programme\, accompagné d’un questionnaire sur la motivation à reprendre une activité régulière.  \n🌊 Un moment sportif et revitalisant en pleine nature !  \n 
URL:https://sausset.hallmycity.fr/evenement/les-pieds-dans-leau-8/
LOCATION:PARC DES LOISIRS – FOYER RESTAURANT\, 31\, avenue de la côte bleue\, Sausset-les-Pins\, 13960
CATEGORIES:CCAS
ATTACH;FMTTYPE=application/pdf:https://sausset.hallmycity.fr/wp-content/uploads/2025/02/Les-pieds-dans-leau-Les-pieds-dans-leau-Affiche-Sausset-les-Pins-1-7.pdf
ORGANIZER;CN="CCAS":MAILTO:ccas@saussetlespins.fr
END:VEVENT
END:VCALENDAR