BEGIN:VCALENDAR
VERSION:2.0
PRODID:-//Sausset Ma Ville - ECPv6.15.20//NONSGML v1.0//EN
CALSCALE:GREGORIAN
METHOD:PUBLISH
X-ORIGINAL-URL:https://sausset.hallmycity.fr
X-WR-CALDESC:Évènements pour Sausset Ma Ville
REFRESH-INTERVAL;VALUE=DURATION:PT1H
X-Robots-Tag:noindex
X-PUBLISHED-TTL:PT1H
BEGIN:VTIMEZONE
TZID:Europe/Paris
BEGIN:DAYLIGHT
TZOFFSETFROM:+0100
TZOFFSETTO:+0200
TZNAME:CEST
DTSTART:20250330T010000
END:DAYLIGHT
BEGIN:STANDARD
TZOFFSETFROM:+0200
TZOFFSETTO:+0100
TZNAME:CET
DTSTART:20251026T010000
END:STANDARD
BEGIN:DAYLIGHT
TZOFFSETFROM:+0100
TZOFFSETTO:+0200
TZNAME:CEST
DTSTART:20260329T010000
END:DAYLIGHT
BEGIN:STANDARD
TZOFFSETFROM:+0200
TZOFFSETTO:+0100
TZNAME:CET
DTSTART:20261025T010000
END:STANDARD
BEGIN:DAYLIGHT
TZOFFSETFROM:+0100
TZOFFSETTO:+0200
TZNAME:CEST
DTSTART:20270328T010000
END:DAYLIGHT
BEGIN:STANDARD
TZOFFSETFROM:+0200
TZOFFSETTO:+0100
TZNAME:CET
DTSTART:20271031T010000
END:STANDARD
END:VTIMEZONE
BEGIN:VEVENT
DTSTART;TZID=Europe/Paris:20260109T143000
DTEND;TZID=Europe/Paris:20260109T170000
DTSTAMP:20260425T045638
CREATED:20260107T143934Z
LAST-MODIFIED:20260107T143934Z
UID:10852-1767969000-1767978000@sausset.hallmycity.fr
SUMMARY:LE LOTO DE LA SANTÉ
DESCRIPTION:
URL:https://sausset.hallmycity.fr/evenement/le-loto-de-la-sante-2/
LOCATION:PARC DES LOISIRS – FOYER RESTAURANT\, 31\, avenue de la côte bleue\, Sausset-les-Pins\, 13960
CATEGORIES:CCAS
ATTACH;FMTTYPE=image/jpeg:https://sausset.hallmycity.fr/wp-content/uploads/2026/01/BROCHURE-ATELIERS-CCAS-2026_Page_05.jpg
END:VEVENT
BEGIN:VEVENT
DTSTART;TZID=Europe/Paris:20260112T150000
DTEND;TZID=Europe/Paris:20260112T170000
DTSTAMP:20260425T045638
CREATED:20260107T141356Z
LAST-MODIFIED:20260107T141356Z
UID:10846-1768230000-1768237200@sausset.hallmycity.fr
SUMMARY:SE DIVERTIR
DESCRIPTION:
URL:https://sausset.hallmycity.fr/evenement/se-divertir/
LOCATION:PARC DES LOISIRS – FOYER RESTAURANT\, 31\, avenue de la côte bleue\, Sausset-les-Pins\, 13960
CATEGORIES:CCAS
ATTACH;FMTTYPE=image/jpeg:https://sausset.hallmycity.fr/wp-content/uploads/2026/01/BROCHURE-ATELIERS-CCAS-2026_Page_06.jpg
END:VEVENT
END:VCALENDAR