BEGIN:VCALENDAR
VERSION:2.0
PRODID:-//Sausset Ma Ville - ECPv6.15.20//NONSGML v1.0//EN
CALSCALE:GREGORIAN
METHOD:PUBLISH
X-ORIGINAL-URL:https://sausset.hallmycity.fr
X-WR-CALDESC:Évènements pour Sausset Ma Ville
REFRESH-INTERVAL;VALUE=DURATION:PT1H
X-Robots-Tag:noindex
X-PUBLISHED-TTL:PT1H
BEGIN:VTIMEZONE
TZID:Europe/Paris
BEGIN:DAYLIGHT
TZOFFSETFROM:+0100
TZOFFSETTO:+0200
TZNAME:CEST
DTSTART:20240331T010000
END:DAYLIGHT
BEGIN:STANDARD
TZOFFSETFROM:+0200
TZOFFSETTO:+0100
TZNAME:CET
DTSTART:20241027T010000
END:STANDARD
BEGIN:DAYLIGHT
TZOFFSETFROM:+0100
TZOFFSETTO:+0200
TZNAME:CEST
DTSTART:20250330T010000
END:DAYLIGHT
BEGIN:STANDARD
TZOFFSETFROM:+0200
TZOFFSETTO:+0100
TZNAME:CET
DTSTART:20251026T010000
END:STANDARD
BEGIN:DAYLIGHT
TZOFFSETFROM:+0100
TZOFFSETTO:+0200
TZNAME:CEST
DTSTART:20260329T010000
END:DAYLIGHT
BEGIN:STANDARD
TZOFFSETFROM:+0200
TZOFFSETTO:+0100
TZNAME:CET
DTSTART:20261025T010000
END:STANDARD
END:VTIMEZONE
BEGIN:VEVENT
DTSTART;TZID=Europe/Paris:20250505T150000
DTEND;TZID=Europe/Paris:20250505T170000
DTSTAMP:20260425T194225
CREATED:20250212T151503Z
LAST-MODIFIED:20250212T151503Z
UID:4026-1746457200-1746464400@sausset.hallmycity.fr
SUMMARY:San'thé DANSANT
DESCRIPTION:Organisateurs :  CCAS – MUTUALITÉ FRANÇAISE\n \nLa Ville propose aux plus de 60 ans\, seul ou en couple\, un atelier alliant plaisir de la danse et bienfaits pour la santé.  \nComposé de 6 séances de 2 heures\, cet atelier est idéal pour celles et ceux qui ont peu ou pas d’activité physique et souhaitent :\n💃 Améliorer leur condition physique par la danse\n🤝 Renforcer le lien social dans une ambiance conviviale  \n📅 Inscrivez-vous et venez danser pour votre bien-être
URL:https://sausset.hallmycity.fr/evenement/santhe-dansant-5/
LOCATION:PARC DES LOISIRS – FOYER RESTAURANT\, 31\, avenue de la côte bleue\, Sausset-les-Pins\, 13960
CATEGORIES:CCAS
ATTACH;FMTTYPE=application/pdf:https://sausset.hallmycity.fr/wp-content/uploads/2025/02/Santhe-dansant-Affiche-Sausset-les-Pins-7.pdf
ORGANIZER;CN="CCAS":MAILTO:ccas@saussetlespins.fr
END:VEVENT
BEGIN:VEVENT
DTSTART;TZID=Europe/Paris:20250506T150000
DTEND;TZID=Europe/Paris:20250506T160000
DTSTAMP:20260425T194225
CREATED:20250214T091907Z
LAST-MODIFIED:20250214T091907Z
UID:4194-1746543600-1746547200@sausset.hallmycity.fr
SUMMARY:Et plouf !
DESCRIPTION:Orgnisateurs :  CCAS – MUTUALITÉ FRANÇAISE\n \nL’atelier « Et Plouf » offre 12 séances d’une heure alternant natation et aquagym.  \nCes activités permettent de travailler l’équilibre\, la coordination\, l’endurance et la force\, tout en ménageant les articulations grâce à la douceur de l’eau.  \n🏊‍♂️ Atelier en piscine animé par un enseignant en activité physique adaptée – Une façon agréable et efficace de prendre soin de son corps !  \n 
URL:https://sausset.hallmycity.fr/evenement/et-plouf-3/
LOCATION:PARC DES LOISIRS – FOYER RESTAURANT\, 31\, avenue de la côte bleue\, Sausset-les-Pins\, 13960
CATEGORIES:CCAS
ATTACH;FMTTYPE=application/pdf:https://sausset.hallmycity.fr/wp-content/uploads/2025/02/Et-plouf-Et-plouf-Affiche-Sausset-les-Pins-4.pdf
ORGANIZER;CN="CCAS":MAILTO:ccas@saussetlespins.fr
END:VEVENT
BEGIN:VEVENT
DTSTART;TZID=Europe/Paris:20250512T150000
DTEND;TZID=Europe/Paris:20250512T170000
DTSTAMP:20260425T194225
CREATED:20250212T151847Z
LAST-MODIFIED:20250212T151847Z
UID:4029-1747062000-1747069200@sausset.hallmycity.fr
SUMMARY:San'thé DANSANT
DESCRIPTION:Organisateurs :  CCAS – MUTUALITÉ FRANÇAISE\n \nLa Ville propose aux plus de 60 ans\, seul ou en couple\, un atelier alliant plaisir de la danse et bienfaits pour la santé.  \nComposé de 6 séances de 2 heures\, cet atelier est idéal pour celles et ceux qui ont peu ou pas d’activité physique et souhaitent :\n💃 Améliorer leur condition physique par la danse\n🤝 Renforcer le lien social dans une ambiance conviviale  \n📅 Inscrivez-vous et venez danser pour votre bien-être
URL:https://sausset.hallmycity.fr/evenement/santhe-dansant-6/
LOCATION:PARC DES LOISIRS – FOYER RESTAURANT\, 31\, avenue de la côte bleue\, Sausset-les-Pins\, 13960
CATEGORIES:CCAS
ATTACH;FMTTYPE=application/pdf:https://sausset.hallmycity.fr/wp-content/uploads/2025/02/Santhe-dansant-Affiche-Sausset-les-Pins-8.pdf
ORGANIZER;CN="CCAS":MAILTO:ccas@saussetlespins.fr
END:VEVENT
BEGIN:VEVENT
DTSTART;TZID=Europe/Paris:20250513T150000
DTEND;TZID=Europe/Paris:20250513T160000
DTSTAMP:20260425T194225
CREATED:20250214T092222Z
LAST-MODIFIED:20250214T092222Z
UID:4197-1747148400-1747152000@sausset.hallmycity.fr
SUMMARY:Et plouf !
DESCRIPTION:Organisateurs :  CCAS – MUTUALITÉ FRANÇAISE\n \nL’atelier « Et Plouf » offre 12 séances d’une heure alternant natation et aquagym.  \nCes activités permettent de travailler l’équilibre\, la coordination\, l’endurance et la force\, tout en ménageant les articulations grâce à la douceur de l’eau.  \n🏊‍♂️ Atelier en piscine animé par un enseignant en activité physique adaptée – Une façon agréable et efficace de prendre soin de son corps !  \n 
URL:https://sausset.hallmycity.fr/evenement/et-plouf-4/
CATEGORIES:CCAS
ATTACH;FMTTYPE=application/pdf:https://sausset.hallmycity.fr/wp-content/uploads/2025/02/Et-plouf-Et-plouf-Affiche-Sausset-les-Pins-5.pdf
END:VEVENT
BEGIN:VEVENT
DTSTART;TZID=Europe/Paris:20250519T150000
DTEND;TZID=Europe/Paris:20250519T160000
DTSTAMP:20260425T194225
CREATED:20250213T143733Z
LAST-MODIFIED:20250213T143733Z
UID:4104-1747666800-1747670400@sausset.hallmycity.fr
SUMMARY:Les pieds dans l'eau
DESCRIPTION:Organisateurs :  CCAS – MUTUALITÉ FRANÇAISE\n \nCet atelier propose 8 séances d’une heure de longe-côte (marche aquatique)\, une activité idéale pour renforcer les membres inférieurs\, améliorer l’équilibre\, la coordination et l’endurance\, tout en profitant des bienfaits de l’eau.  \n🏊‍♂️ Un test de condition physique sera réalisé en début et en fin de programme\, accompagné d’un questionnaire sur la motivation à reprendre une activité régulière.  \n🌊 Un moment sportif et revitalisant en pleine nature ! 
URL:https://sausset.hallmycity.fr/evenement/les-pieds-dans-leau/
LOCATION:PARC DES LOISIRS – FOYER RESTAURANT\, 31\, avenue de la côte bleue\, Sausset-les-Pins\, 13960
CATEGORIES:CCAS
ATTACH;FMTTYPE=application/pdf:https://sausset.hallmycity.fr/wp-content/uploads/2025/02/Les-pieds-dans-leau-Les-pieds-dans-leau-Affiche-Sausset-les-Pins-1.pdf
ORGANIZER;CN="CCAS":MAILTO:ccas@saussetlespins.fr
END:VEVENT
BEGIN:VEVENT
DTSTART;TZID=Europe/Paris:20250520T150000
DTEND;TZID=Europe/Paris:20250520T160000
DTSTAMP:20260425T194225
CREATED:20250214T092512Z
LAST-MODIFIED:20250214T092512Z
UID:4200-1747753200-1747756800@sausset.hallmycity.fr
SUMMARY:Et plouf !
DESCRIPTION:Organisateurs :  CCAS – MUTUALITÉ FRANÇAISE\n \nL’atelier « Et Plouf » offre 12 séances d’une heure alternant natation et aquagym.  \nCes activités permettent de travailler l’équilibre\, la coordination\, l’endurance et la force\, tout en ménageant les articulations grâce à la douceur de l’eau.  \n🏊‍♂️ Atelier en piscine animé par un enseignant en activité physique adaptée – Une façon agréable et efficace de prendre soin de son corps !  \n 
URL:https://sausset.hallmycity.fr/evenement/et-plouf-5/
LOCATION:PARC DES LOISIRS – FOYER RESTAURANT\, 31\, avenue de la côte bleue\, Sausset-les-Pins\, 13960
CATEGORIES:CCAS
ATTACH;FMTTYPE=application/pdf:https://sausset.hallmycity.fr/wp-content/uploads/2025/02/Et-plouf-Et-plouf-Affiche-Sausset-les-Pins-6.pdf
ORGANIZER;CN="CCAS":MAILTO:ccas@saussetlespins.fr
END:VEVENT
BEGIN:VEVENT
DTSTART;TZID=Europe/Paris:20250526T150000
DTEND;TZID=Europe/Paris:20250526T160000
DTSTAMP:20260425T194225
CREATED:20250213T144107Z
LAST-MODIFIED:20250213T144107Z
UID:4107-1748271600-1748275200@sausset.hallmycity.fr
SUMMARY:Les pieds dans l'eau
DESCRIPTION:Organisateurs :  CCAS – MUTUALITÉ FRANÇAISE\n \nCet atelier propose 8 séances d’une heure de longe-côte (marche aquatique)\, une activité idéale pour renforcer les membres inférieurs\, améliorer l’équilibre\, la coordination et l’endurance\, tout en profitant des bienfaits de l’eau.  \n🏊‍♂️ Un test de condition physique sera réalisé en début et en fin de programme\, accompagné d’un questionnaire sur la motivation à reprendre une activité régulière.  \n🌊 Un moment sportif et revitalisant en pleine nature ! 
URL:https://sausset.hallmycity.fr/evenement/les-pieds-dans-leau-2/
LOCATION:PARC DES LOISIRS – FOYER RESTAURANT\, 31\, avenue de la côte bleue\, Sausset-les-Pins\, 13960
CATEGORIES:CCAS
ATTACH;FMTTYPE=application/pdf:https://sausset.hallmycity.fr/wp-content/uploads/2025/02/Les-pieds-dans-leau-Les-pieds-dans-leau-Affiche-Sausset-les-Pins-1-1.pdf
ORGANIZER;CN="CCAS":MAILTO:ccas@saussetlespins.fr
END:VEVENT
BEGIN:VEVENT
DTSTART;TZID=Europe/Paris:20250527T150000
DTEND;TZID=Europe/Paris:20250527T160000
DTSTAMP:20260425T194225
CREATED:20250214T092732Z
LAST-MODIFIED:20250214T092732Z
UID:4203-1748358000-1748361600@sausset.hallmycity.fr
SUMMARY:Et plouf !
DESCRIPTION:Organisateurs :  CCAS – MUTUALITÉ FRANÇAISE\n \nL’atelier « Et Plouf » offre 12 séances d’une heure alternant natation et aquagym.  \nCes activités permettent de travailler l’équilibre\, la coordination\, l’endurance et la force\, tout en ménageant les articulations grâce à la douceur de l’eau.  \n🏊‍♂️ Atelier en piscine animé par un enseignant en activité physique adaptée – Une façon agréable et efficace de prendre soin de son corps !  \n 
URL:https://sausset.hallmycity.fr/evenement/et-plouf-6/
LOCATION:PARC DES LOISIRS – FOYER RESTAURANT\, 31\, avenue de la côte bleue\, Sausset-les-Pins\, 13960
CATEGORIES:CCAS
ATTACH;FMTTYPE=application/pdf:https://sausset.hallmycity.fr/wp-content/uploads/2025/02/Et-plouf-Et-plouf-Affiche-Sausset-les-Pins-7.pdf
ORGANIZER;CN="CCAS":MAILTO:ccas@saussetlespins.fr
END:VEVENT
END:VCALENDAR