BEGIN:VCALENDAR
VERSION:2.0
PRODID:-//Sausset Ma Ville - ECPv6.15.20//NONSGML v1.0//EN
CALSCALE:GREGORIAN
METHOD:PUBLISH
X-ORIGINAL-URL:https://sausset.hallmycity.fr
X-WR-CALDESC:Évènements pour Sausset Ma Ville
REFRESH-INTERVAL;VALUE=DURATION:PT1H
X-Robots-Tag:noindex
X-PUBLISHED-TTL:PT1H
BEGIN:VTIMEZONE
TZID:Europe/Paris
BEGIN:DAYLIGHT
TZOFFSETFROM:+0100
TZOFFSETTO:+0200
TZNAME:CEST
DTSTART:20240331T010000
END:DAYLIGHT
BEGIN:STANDARD
TZOFFSETFROM:+0200
TZOFFSETTO:+0100
TZNAME:CET
DTSTART:20241027T010000
END:STANDARD
BEGIN:DAYLIGHT
TZOFFSETFROM:+0100
TZOFFSETTO:+0200
TZNAME:CEST
DTSTART:20250330T010000
END:DAYLIGHT
BEGIN:STANDARD
TZOFFSETFROM:+0200
TZOFFSETTO:+0100
TZNAME:CET
DTSTART:20251026T010000
END:STANDARD
BEGIN:DAYLIGHT
TZOFFSETFROM:+0100
TZOFFSETTO:+0200
TZNAME:CEST
DTSTART:20260329T010000
END:DAYLIGHT
BEGIN:STANDARD
TZOFFSETFROM:+0200
TZOFFSETTO:+0100
TZNAME:CET
DTSTART:20261025T010000
END:STANDARD
END:VTIMEZONE
BEGIN:VEVENT
DTSTART;TZID=Europe/Paris:20250403T150000
DTEND;TZID=Europe/Paris:20250403T160000
DTSTAMP:20260425T212930
CREATED:20250213T141055Z
LAST-MODIFIED:20250213T141055Z
UID:4082-1743692400-1743696000@sausset.hallmycity.fr
SUMMARY:BOUGER POUR GARDER MON ÉQUILIBRE
DESCRIPTION:Organisateurs :  CCAS – MUTUALITÉ FRANÇAISE\n \nLa Mutualité Française propose une nouvelle session de l’atelier « Bouger pour garder mon équilibre »\, destiné aux personnes de plus de 55 ans souhaitant préserver leur mobilité et leur bien-être.  \nAu programme : des exercices adaptés pour entretenir son équilibre\, améliorer sa posture et prévenir les risques de chute\, le tout dans une ambiance conviviale.  \n 
URL:https://sausset.hallmycity.fr/evenement/bouger-pour-garder-mon-equilibre-7/
LOCATION:PARC DES LOISIRS – FOYER RESTAURANT\, 31\, avenue de la côte bleue\, Sausset-les-Pins\, 13960
CATEGORIES:CCAS
ATTACH;FMTTYPE=application/pdf:https://sausset.hallmycity.fr/wp-content/uploads/2025/02/Affiche-atelier-equilibre-Sausset-les-Pins-1-7.pdf
ORGANIZER;CN="CCAS":MAILTO:ccas@saussetlespins.fr
END:VEVENT
BEGIN:VEVENT
DTSTART;TZID=Europe/Paris:20250407T150000
DTEND;TZID=Europe/Paris:20250407T170000
DTSTAMP:20260425T212930
CREATED:20250212T143256Z
LAST-MODIFIED:20250212T145226Z
UID:3984-1744038000-1744045200@sausset.hallmycity.fr
SUMMARY:San'thé dansant
DESCRIPTION:  \nOrganisateurs : CCAS – MUTUALITÉ FRANÇAISE \nLa Ville propose aux plus de 60 ans\,seul ou en couple\, un atelier alliant plaisir de la danse et bienfaits pour la santé. \nComposé de 6 séances de 2 heures\, cet atelier est idéal pour celles et ceux qui ont peu ou pas d’activité physique et souhaitent :\n💃 Améliorer leur condition physique par la danse\n🤝 Renforcer le lien social dans une ambiance conviviale \n📅 Inscrivez-vous et venez danser pour votre bien-être !
URL:https://sausset.hallmycity.fr/evenement/santhe-dansant/
LOCATION:PARC DES LOISIRS – FOYER RESTAURANT\, 31\, avenue de la côte bleue\, Sausset-les-Pins\, 13960
CATEGORIES:CCAS
ATTACH;FMTTYPE=application/pdf:https://sausset.hallmycity.fr/wp-content/uploads/2025/02/Santhe-dansant-Affiche-Sausset-les-Pins-3.pdf
ORGANIZER;CN="CCAS":MAILTO:ccas@saussetlespins.fr
END:VEVENT
BEGIN:VEVENT
DTSTART;TZID=Europe/Paris:20250410T150000
DTEND;TZID=Europe/Paris:20250410T160000
DTSTAMP:20260425T212930
CREATED:20250213T141427Z
LAST-MODIFIED:20250213T141427Z
UID:4086-1744297200-1744300800@sausset.hallmycity.fr
SUMMARY:BOUGER POUR GARDER MON ÉQUILIBRE
DESCRIPTION:Organisateurs :  CCAS – MUTUALITÉ FRANÇAISE\n \nLa Mutualité Française propose une nouvelle session de l’atelier « Bouger pour garder mon équilibre »\, destiné aux personnes de plus de 55 ans souhaitant préserver leur mobilité et leur bien-être.  \nAu programme : des exercices adaptés pour entretenir son équilibre\, améliorer sa posture et prévenir les risques de chute\, le tout dans une ambiance conviviale.  \n 
URL:https://sausset.hallmycity.fr/evenement/bouger-pour-garder-mon-equilibre-8/
LOCATION:PARC DES LOISIRS – FOYER RESTAURANT\, 31\, avenue de la côte bleue\, Sausset-les-Pins\, 13960
CATEGORIES:CCAS
ATTACH;FMTTYPE=application/pdf:https://sausset.hallmycity.fr/wp-content/uploads/2025/02/Affiche-atelier-equilibre-Sausset-les-Pins-1-8.pdf
ORGANIZER;CN="CCAS":MAILTO:ccas@saussetlespins.fr
END:VEVENT
BEGIN:VEVENT
DTSTART;TZID=Europe/Paris:20250414T150000
DTEND;TZID=Europe/Paris:20250414T170000
DTSTAMP:20260425T212930
CREATED:20250212T145125Z
LAST-MODIFIED:20250212T145125Z
UID:4005-1744642800-1744650000@sausset.hallmycity.fr
SUMMARY:San'thé DANSANT
DESCRIPTION:Organisateurs : CCAS – MUTUALITÉ FRANÇAISE\n \nLa Ville propose aux plus de 60 ans\, seul ou en couple\, un atelier alliant plaisir de la danse et bienfaits pour la santé.  \nComposé de 6 séances de 2 heures\, cet atelier est idéal pour celles et ceux qui ont peu ou pas d’activité physique et souhaitent :\n💃 Améliorer leur condition physique par la danse\n🤝 Renforcer le lien social dans une ambiance conviviale  \n📅 Inscrivez-vous et venez danser pour votre bien-être
URL:https://sausset.hallmycity.fr/evenement/santhe-dansant-2/
LOCATION:PARC DES LOISIRS – FOYER RESTAURANT\, 31\, avenue de la côte bleue\, Sausset-les-Pins\, 13960
CATEGORIES:CCAS
ATTACH;FMTTYPE=application/pdf:https://sausset.hallmycity.fr/wp-content/uploads/2025/02/Santhe-dansant-Affiche-Sausset-les-Pins-4.pdf
ORGANIZER;CN="CCAS":MAILTO:ccas@saussetlespins.fr
END:VEVENT
BEGIN:VEVENT
DTSTART;TZID=Europe/Paris:20250417T150000
DTEND;TZID=Europe/Paris:20250417T160000
DTSTAMP:20260425T212930
CREATED:20250213T141751Z
LAST-MODIFIED:20250213T141751Z
UID:4091-1744902000-1744905600@sausset.hallmycity.fr
SUMMARY:BOUGER POUR GARDER MON ÉQUILIBRE
DESCRIPTION:Organisateurs :  CCAS – MUTUALITÉ FRANÇAISE\n \nLa Mutualité Française propose une nouvelle session de l’atelier « Bouger pour garder mon équilibre »\, destiné aux personnes de plus de 55 ans souhaitant préserver leur mobilité et leur bien-être.  \nAu programme : des exercices adaptés pour entretenir son équilibre\, améliorer sa posture et prévenir les risques de chute\, le tout dans une ambiance conviviale.  \n 
URL:https://sausset.hallmycity.fr/evenement/bouger-pour-garder-mon-equilibre-9/
LOCATION:PARC DES LOISIRS – FOYER RESTAURANT\, 31\, avenue de la côte bleue\, Sausset-les-Pins\, 13960
CATEGORIES:CCAS
ATTACH;FMTTYPE=application/pdf:https://sausset.hallmycity.fr/wp-content/uploads/2025/02/Affiche-atelier-equilibre-Sausset-les-Pins-1-9.pdf
ORGANIZER;CN="CCAS":MAILTO:ccas@saussetlespins.fr
END:VEVENT
BEGIN:VEVENT
DTSTART;TZID=Europe/Paris:20250421T150000
DTEND;TZID=Europe/Paris:20250421T170000
DTSTAMP:20260425T212930
CREATED:20250212T145608Z
LAST-MODIFIED:20250212T151121Z
UID:4019-1745247600-1745254800@sausset.hallmycity.fr
SUMMARY:San'thé DANSANT
DESCRIPTION:Organisateurs :  CCAS – MUTUALITÉ FRANÇAISE\n \nLa Ville propose aux plus de 60 ans\, seul ou en couple\, un atelier alliant plaisir de la danse et bienfaits pour la santé.  \nComposé de 6 séances de 2 heures\, cet atelier est idéal pour celles et ceux qui ont peu ou pas d’activité physique et souhaitent :\n💃 Améliorer leur condition physique par la danse\n🤝 Renforcer le lien social dans une ambiance conviviale  \n📅 Inscrivez-vous et venez danser pour votre bien-être
URL:https://sausset.hallmycity.fr/evenement/santhe-dansant-3/
LOCATION:PARC DES LOISIRS – FOYER RESTAURANT\, 31\, avenue de la côte bleue\, Sausset-les-Pins\, 13960
CATEGORIES:CCAS
ATTACH;FMTTYPE=application/pdf:https://sausset.hallmycity.fr/wp-content/uploads/2025/02/Santhe-dansant-Affiche-Sausset-les-Pins-6.pdf
ORGANIZER;CN="CCAS":MAILTO:ccas@saussetlespins.fr
END:VEVENT
BEGIN:VEVENT
DTSTART;TZID=Europe/Paris:20250422T150000
DTEND;TZID=Europe/Paris:20250422T160000
DTSTAMP:20260425T212930
CREATED:20250214T090828Z
LAST-MODIFIED:20250214T090828Z
UID:4185-1745334000-1745337600@sausset.hallmycity.fr
SUMMARY:Et plouf !
DESCRIPTION:Organisateurs :  CCAS – MUTUALITÉ FRANÇAISE\n \nL’atelier « Et Plouf » offre 12 séances d’une heure alternant natation et aquagym.  \nCes activités permettent de travailler l’équilibre\, la coordination\, l’endurance et la force\, tout en ménageant les articulations grâce à la douceur de l’eau.  \n🏊‍♂️ Atelier en piscine animé par un enseignant en activité physique adaptée – Une façon agréable et efficace de prendre soin de son corps !  \n 
URL:https://sausset.hallmycity.fr/evenement/et-plouf/
LOCATION:PARC DES LOISIRS – FOYER RESTAURANT\, 31\, avenue de la côte bleue\, Sausset-les-Pins\, 13960
CATEGORIES:CCAS
ATTACH;FMTTYPE=application/pdf:https://sausset.hallmycity.fr/wp-content/uploads/2025/02/Et-plouf-Et-plouf-Affiche-Sausset-les-Pins-1.pdf
ORGANIZER;CN="CCAS":MAILTO:ccas@saussetlespins.fr
END:VEVENT
BEGIN:VEVENT
DTSTART;TZID=Europe/Paris:20250424T150000
DTEND;TZID=Europe/Paris:20250424T160000
DTSTAMP:20260425T212930
CREATED:20250213T142031Z
LAST-MODIFIED:20250213T142031Z
UID:4094-1745506800-1745510400@sausset.hallmycity.fr
SUMMARY:BOUGER POU GARDER MON ÉQUILIBRE
DESCRIPTION:Organisateurs :  CCAS – MUTUALITÉ FRANÇAISE\n \nLa Mutualité Française propose une nouvelle session de l’atelier « Bouger pour garder mon équilibre »\, destiné aux personnes de plus de 55 ans souhaitant préserver leur mobilité et leur bien-être.  \nAu programme : des exercices adaptés pour entretenir son équilibre\, améliorer sa posture et prévenir les risques de chute\, le tout dans une ambiance conviviale.  \n 
URL:https://sausset.hallmycity.fr/evenement/bouger-pou-garder-mon-equilibre/
LOCATION:PARC DES LOISIRS – FOYER RESTAURANT\, 31\, avenue de la côte bleue\, Sausset-les-Pins\, 13960
CATEGORIES:CCAS
ATTACH;FMTTYPE=application/pdf:https://sausset.hallmycity.fr/wp-content/uploads/2025/02/Affiche-atelier-equilibre-Sausset-les-Pins-1-10.pdf
ORGANIZER;CN="CCAS":MAILTO:ccas@saussetlespins.fr
END:VEVENT
BEGIN:VEVENT
DTSTART;TZID=Europe/Paris:20250428T150000
DTEND;TZID=Europe/Paris:20250428T170000
DTSTAMP:20260425T212930
CREATED:20250212T150353Z
LAST-MODIFIED:20250212T150629Z
UID:4021-1745852400-1745859600@sausset.hallmycity.fr
SUMMARY:San'thé DANSANT
DESCRIPTION:Organisateurs :  CCAS – MUTUALITÉ FRANÇAISE\n \nLa Ville propose aux plus de 60 ans\, seul ou en couple\, un atelier alliant plaisir de la danse et bienfaits pour la santé.  \nComposé de 6 séances de 2 heures\, cet atelier est idéal pour celles et ceux qui ont peu ou pas d’activité physique et souhaitent :\n💃 Améliorer leur condition physique par la danse\n🤝 Renforcer le lien social dans une ambiance conviviale  \n📅 Inscrivez-vous et venez danser pour votre bien-être
URL:https://sausset.hallmycity.fr/evenement/santhe-dansant-4/
LOCATION:PARC DES LOISIRS – FOYER RESTAURANT\, 31\, avenue de la côte bleue\, Sausset-les-Pins\, 13960
CATEGORIES:CCAS
ATTACH;FMTTYPE=application/pdf:https://sausset.hallmycity.fr/wp-content/uploads/2025/02/Santhe-dansant-Affiche-Sausset-les-Pins-5.pdf
END:VEVENT
BEGIN:VEVENT
DTSTART;TZID=Europe/Paris:20250429T150000
DTEND;TZID=Europe/Paris:20250429T160000
DTSTAMP:20260425T212930
CREATED:20250214T091500Z
LAST-MODIFIED:20250214T091500Z
UID:4189-1745938800-1745942400@sausset.hallmycity.fr
SUMMARY:Et plouf !
DESCRIPTION:Organisateurs :  CCAS – MUTUALITÉ FRANÇAISE\n \nL’atelier « Et Plouf » offre 12 séances d’une heure alternant natation et aquagym.  \nCes activités permettent de travailler l’équilibre\, la coordination\, l’endurance et la force\, tout en ménageant les articulations grâce à la douceur de l’eau.  \n🏊‍♂️ Atelier en piscine animé par un enseignant en activité physique adaptée – Une façon agréable et efficace de prendre soin de son corps !  \n 
URL:https://sausset.hallmycity.fr/evenement/et-plouf-2/
LOCATION:PARC DES LOISIRS – FOYER RESTAURANT\, 31\, avenue de la côte bleue\, Sausset-les-Pins\, 13960
CATEGORIES:CCAS
ATTACH;FMTTYPE=application/pdf:https://sausset.hallmycity.fr/wp-content/uploads/2025/02/Et-plouf-Et-plouf-Affiche-Sausset-les-Pins-3.pdf
ORGANIZER;CN="CCAS":MAILTO:ccas@saussetlespins.fr
END:VEVENT
END:VCALENDAR