BEGIN:VCALENDAR
VERSION:2.0
PRODID:-//Sausset Ma Ville - ECPv6.15.20//NONSGML v1.0//EN
CALSCALE:GREGORIAN
METHOD:PUBLISH
X-WR-CALNAME:Sausset Ma Ville
X-ORIGINAL-URL:https://sausset.hallmycity.fr
X-WR-CALDESC:Évènements pour Sausset Ma Ville
REFRESH-INTERVAL;VALUE=DURATION:PT1H
X-Robots-Tag:noindex
X-PUBLISHED-TTL:PT1H
BEGIN:VTIMEZONE
TZID:Europe/Paris
BEGIN:DAYLIGHT
TZOFFSETFROM:+0100
TZOFFSETTO:+0200
TZNAME:CEST
DTSTART:20240331T010000
END:DAYLIGHT
BEGIN:STANDARD
TZOFFSETFROM:+0200
TZOFFSETTO:+0100
TZNAME:CET
DTSTART:20241027T010000
END:STANDARD
BEGIN:DAYLIGHT
TZOFFSETFROM:+0100
TZOFFSETTO:+0200
TZNAME:CEST
DTSTART:20250330T010000
END:DAYLIGHT
BEGIN:STANDARD
TZOFFSETFROM:+0200
TZOFFSETTO:+0100
TZNAME:CET
DTSTART:20251026T010000
END:STANDARD
BEGIN:DAYLIGHT
TZOFFSETFROM:+0100
TZOFFSETTO:+0200
TZNAME:CEST
DTSTART:20260329T010000
END:DAYLIGHT
BEGIN:STANDARD
TZOFFSETFROM:+0200
TZOFFSETTO:+0100
TZNAME:CET
DTSTART:20261025T010000
END:STANDARD
END:VTIMEZONE
BEGIN:VEVENT
DTSTART;TZID=Europe/Paris:20250213T132334
DTEND;TZID=Europe/Paris:20250213T132334
DTSTAMP:20260426T004100
CREATED:20250213T132333Z
LAST-MODIFIED:20250213T132333Z
UID:4052-1739453014-1739453014@sausset.hallmycity.fr
SUMMARY:LE BON TEMPS AU VOLANT
DESCRIPTION:Les conséquences du vieillissement sur la conduite  \nOrganisateurs :  CCAS – MUTUALITÉ FRANÇAISE\n \nL’atelier « Le Bon Temps au Volant » est spécialement conçu pour aider les seniors à mieux appréhender les effets du vieillissement sur la conduite (vue\, audition\, prise de médicaments) et à adapter leurs réflexes pour une conduite plus sûre et plus sereine.  \nÀ travers quatre modules autonomes de 20 minutes\, cet atelier propose un parcours complet pour préserver son autonomie au volant le plus longtemps possible. Il offre un accompagnement personnalisé pour continuer à rouler en toute confiance. 🚗💡 
URL:https://sausset.hallmycity.fr/evenement/le-bon-temps-au-volant/
CATEGORIES:CCAS
ATTACH;FMTTYPE=application/pdf:https://sausset.hallmycity.fr/wp-content/uploads/2025/02/AFFICHE-bon-temps-au-volant_Saussett-2.pdf
ORGANIZER;CN="CCAS":MAILTO:ccas@saussetlespins.fr
END:VEVENT
BEGIN:VEVENT
DTSTART;TZID=Europe/Paris:20250213T150000
DTEND;TZID=Europe/Paris:20250213T150000
DTSTAMP:20260426T004100
CREATED:20250212T101750Z
LAST-MODIFIED:20250212T104600Z
UID:3946-1739458800-1739458800@sausset.hallmycity.fr
SUMMARY:ATELIER "BOUGER POUR GARDER MON EQUILIBRE"
DESCRIPTION:Une nouvelle session des ateliers de prévention des chutes\, proposée par la Mutualité Française\, dans le cadre du programme « Bien vieillir\, bouger pour garder mon équilibre » destiné aux personnes âgées de plus de 55 ans. \nCes ateliers ont pour objectifs : \n\n\n\nd’entretenir son équilibre\n\n\n\n\n\n\nde pratiquer des exercices adaptés\n\n\n\n\nde partager un moment de convivialité
URL:https://sausset.hallmycity.fr/evenement/atelier-bouger-pour-garder-mon-equilibre/
LOCATION:PARC DES LOISIRS – FOYER RESTAURANT\, 31\, avenue de la côte bleue\, Sausset-les-Pins\, 13960
CATEGORIES:CCAS
ATTACH;FMTTYPE=application/pdf:https://sausset.hallmycity.fr/wp-content/uploads/2025/02/Affiche-atelier-equilibre-Sausset-les-Pins.pdf
ORGANIZER;CN="CCAS":MAILTO:ccas@saussetlespins.fr
END:VEVENT
BEGIN:VEVENT
DTSTART;TZID=Europe/Paris:20250218T140000
DTEND;TZID=Europe/Paris:20250218T160000
DTSTAMP:20260426T004100
CREATED:20250214T103814Z
LAST-MODIFIED:20250214T103814Z
UID:4228-1739887200-1739894400@sausset.hallmycity.fr
SUMMARY:N'oubliez pas les chansons
DESCRIPTION:  \nOrganisateurs :  CCAS – MUTUALITÉ FRANÇAISE\n \nCet atelier ludique utilise les textes de chansons pour stimuler la mémoire et renforcer les mécanismes de mémorisation. À travers des exercices variés et interactifs\, les participants développent leurs capacités cognitives tout en prenant du plaisir à chanter et à partager un moment convivial.  \nUn excellent moyen d’entretenir sa mémoire en rythme et en bonne humeur ! 🎤🎵  \n 
URL:https://sausset.hallmycity.fr/evenement/noubliez-pas-les-chansons/
LOCATION:PARC DES LOISIRS – FOYER RESTAURANT\, 31\, avenue de la côte bleue\, Sausset-les-Pins\, 13960
CATEGORIES:CCAS
ATTACH;FMTTYPE=application/pdf:https://sausset.hallmycity.fr/wp-content/uploads/2025/02/Affiche-noubliez-pas-les-chansons-Sausset-les-pins-CF-2024-1.pdf
ORGANIZER;CN="CCAS":MAILTO:ccas@saussetlespins.fr
END:VEVENT
BEGIN:VEVENT
DTSTART;TZID=Europe/Paris:20250220T150000
DTEND;TZID=Europe/Paris:20250220T160000
DTSTAMP:20260426T004100
CREATED:20250213T133002Z
LAST-MODIFIED:20250213T133002Z
UID:4057-1740063600-1740067200@sausset.hallmycity.fr
SUMMARY:BOUGER POUR GARDER MON ÉQUILIBRE
DESCRIPTION:Organisateurs :  CCAS – MUTUALITÉ FRANÇAISE\n \nLa Mutualité Française propose une nouvelle session de l’atelier « Bouger pour garder mon équilibre »\, destiné aux personnes de plus de 55 ans souhaitant préserver leur mobilité et leur bien-être.  \nAu programme : des exercices adaptés pour entretenir son équilibre\, améliorer sa posture et prévenir les risques de chute\, le tout dans une ambiance conviviale.  \n 
URL:https://sausset.hallmycity.fr/evenement/bouger-pour-garder-mon-equilibre/
LOCATION:PARC DES LOISIRS – FOYER RESTAURANT\, 31\, avenue de la côte bleue\, Sausset-les-Pins\, 13960
CATEGORIES:CCAS
ATTACH;FMTTYPE=application/pdf:https://sausset.hallmycity.fr/wp-content/uploads/2025/02/Affiche-atelier-equilibre-Sausset-les-Pins-1-1.pdf
ORGANIZER;CN="CCAS":MAILTO:ccas@saussetlespins.fr
END:VEVENT
BEGIN:VEVENT
DTSTART;TZID=Europe/Paris:20250225T140000
DTEND;TZID=Europe/Paris:20250225T160000
DTSTAMP:20260426T004100
CREATED:20250214T104026Z
LAST-MODIFIED:20250214T104026Z
UID:4231-1740492000-1740499200@sausset.hallmycity.fr
SUMMARY:N'oubliez pas les chansons
DESCRIPTION:Organisateurs :  CCAS – MUTUALITÉ FRANÇAISE\n \nCet atelier ludique utilise les textes de chansons pour stimuler la mémoire et renforcer les mécanismes de mémorisation. À travers des exercices variés et interactifs\, les participants développent leurs capacités cognitives tout en prenant du plaisir à chanter et à partager un moment convivial.  \nUn excellent moyen d’entretenir sa mémoire en rythme et en bonne humeur ! 🎤🎵  \n 
URL:https://sausset.hallmycity.fr/evenement/noubliez-pas-les-chansons-2/
LOCATION:PARC DES LOISIRS – FOYER RESTAURANT\, 31\, avenue de la côte bleue\, Sausset-les-Pins\, 13960
CATEGORIES:CCAS
ATTACH;FMTTYPE=application/pdf:https://sausset.hallmycity.fr/wp-content/uploads/2025/02/Affiche-noubliez-pas-les-chansons-Sausset-les-pins-CF-2024-1-1.pdf
ORGANIZER;CN="CCAS":MAILTO:ccas@saussetlespins.fr
END:VEVENT
BEGIN:VEVENT
DTSTART;TZID=Europe/Paris:20250227T150000
DTEND;TZID=Europe/Paris:20250227T160000
DTSTAMP:20260426T004100
CREATED:20250213T134304Z
LAST-MODIFIED:20250213T134304Z
UID:4063-1740668400-1740672000@sausset.hallmycity.fr
SUMMARY:BOUGER POUR GARDER MON ÉQUILIBRE
DESCRIPTION:Organisateurs :  CCAS – MUTUALITÉ FRANÇAISE\n \nLa Mutualité Française propose une nouvelle session de l’atelier « Bouger pour garder mon équilibre »\, destiné aux personnes de plus de 55 ans souhaitant préserver leur mobilité et leur bien-être.  \nAu programme : des exercices adaptés pour entretenir son équilibre\, améliorer sa posture et prévenir les risques de chute\, le tout dans une ambiance conviviale.  \n 
URL:https://sausset.hallmycity.fr/evenement/bouger-pour-garder-mon-equilibre-2/
LOCATION:PARC DES LOISIRS – FOYER RESTAURANT\, 31\, avenue de la côte bleue\, Sausset-les-Pins\, 13960
CATEGORIES:CCAS
ATTACH;FMTTYPE=application/pdf:https://sausset.hallmycity.fr/wp-content/uploads/2025/02/Affiche-atelier-equilibre-Sausset-les-Pins-1-2.pdf
ORGANIZER;CN="CCAS":MAILTO:ccas@saussetlespins.fr
END:VEVENT
END:VCALENDAR