BEGIN:VCALENDAR
VERSION:2.0
PRODID:-//Sausset Ma Ville - ECPv6.15.20//NONSGML v1.0//EN
CALSCALE:GREGORIAN
METHOD:PUBLISH
X-WR-CALNAME:Sausset Ma Ville
X-ORIGINAL-URL:https://sausset.hallmycity.fr
X-WR-CALDESC:Évènements pour Sausset Ma Ville
REFRESH-INTERVAL;VALUE=DURATION:PT1H
X-Robots-Tag:noindex
X-PUBLISHED-TTL:PT1H
BEGIN:VTIMEZONE
TZID:Europe/Paris
BEGIN:DAYLIGHT
TZOFFSETFROM:+0100
TZOFFSETTO:+0200
TZNAME:CEST
DTSTART:20250330T010000
END:DAYLIGHT
BEGIN:STANDARD
TZOFFSETFROM:+0200
TZOFFSETTO:+0100
TZNAME:CET
DTSTART:20251026T010000
END:STANDARD
BEGIN:DAYLIGHT
TZOFFSETFROM:+0100
TZOFFSETTO:+0200
TZNAME:CEST
DTSTART:20260329T010000
END:DAYLIGHT
BEGIN:STANDARD
TZOFFSETFROM:+0200
TZOFFSETTO:+0100
TZNAME:CET
DTSTART:20261025T010000
END:STANDARD
BEGIN:DAYLIGHT
TZOFFSETFROM:+0100
TZOFFSETTO:+0200
TZNAME:CEST
DTSTART:20270328T010000
END:DAYLIGHT
BEGIN:STANDARD
TZOFFSETFROM:+0200
TZOFFSETTO:+0100
TZNAME:CET
DTSTART:20271031T010000
END:STANDARD
END:VTIMEZONE
BEGIN:VEVENT
DTSTART;TZID=Europe/Paris:20260326T150000
DTEND;TZID=Europe/Paris:20260618T160000
DTSTAMP:20260424T225829
CREATED:20260223T092543Z
LAST-MODIFIED:20260320T085122Z
UID:11939-1774537200-1781798400@sausset.hallmycity.fr
SUMMARY:BOUGER POUR GARDER MON ÉQUILIBRE
DESCRIPTION:
URL:https://sausset.hallmycity.fr/evenement/bouger-pour-garder-mon-equilibre-11/
LOCATION:PARC DES LOISIRS – FOYER RESTAURANT\, 31\, avenue de la côte bleue\, Sausset-les-Pins\, 13960
CATEGORIES:CCAS
ATTACH;FMTTYPE=application/pdf:https://sausset.hallmycity.fr/wp-content/uploads/2026/02/Atelier-equilibre-Sausset-les-Pins-Affiche.pdf
END:VEVENT
BEGIN:VEVENT
DTSTART;TZID=Europe/Paris:20260424T000000
DTEND;TZID=Europe/Paris:20260426T000000
DTSTAMP:20260424T225829
CREATED:20260312T075028Z
LAST-MODIFIED:20260312T075137Z
UID:12318-1776988800-1777161600@sausset.hallmycity.fr
SUMMARY:FESTIVAL PRINTEMPS FARÔTS
DESCRIPTION:
URL:https://sausset.hallmycity.fr/evenement/festival-printemps-farots/
LOCATION:Salle DEGLIN
CATEGORIES:Festival
ATTACH;FMTTYPE=image/png:https://sausset.hallmycity.fr/wp-content/uploads/2026/03/2026_04_Printemps-Farots.png
END:VEVENT
END:VCALENDAR